BEGIN:VCALENDAR
VERSION:2.0
PRODID:-//League of Women Voters Asheville - Buncombe - ECPv6.15.17.1//NONSGML v1.0//EN
CALSCALE:GREGORIAN
METHOD:PUBLISH
X-WR-CALNAME:League of Women Voters Asheville - Buncombe
X-ORIGINAL-URL:https://www.lwvab.org
X-WR-CALDESC:Events for League of Women Voters Asheville - Buncombe
REFRESH-INTERVAL;VALUE=DURATION:PT1H
X-Robots-Tag:noindex
X-PUBLISHED-TTL:PT1H
BEGIN:VTIMEZONE
TZID:America/New_York
BEGIN:DAYLIGHT
TZOFFSETFROM:-0500
TZOFFSETTO:-0400
TZNAME:EDT
DTSTART:20230312T070000
END:DAYLIGHT
BEGIN:STANDARD
TZOFFSETFROM:-0400
TZOFFSETTO:-0500
TZNAME:EST
DTSTART:20231105T060000
END:STANDARD
BEGIN:DAYLIGHT
TZOFFSETFROM:-0500
TZOFFSETTO:-0400
TZNAME:EDT
DTSTART:20240310T070000
END:DAYLIGHT
BEGIN:STANDARD
TZOFFSETFROM:-0400
TZOFFSETTO:-0500
TZNAME:EST
DTSTART:20241103T060000
END:STANDARD
BEGIN:DAYLIGHT
TZOFFSETFROM:-0500
TZOFFSETTO:-0400
TZNAME:EDT
DTSTART:20250309T070000
END:DAYLIGHT
BEGIN:STANDARD
TZOFFSETFROM:-0400
TZOFFSETTO:-0500
TZNAME:EST
DTSTART:20251102T060000
END:STANDARD
END:VTIMEZONE
BEGIN:VEVENT
DTSTART;TZID=America/New_York:20240513T140000
DTEND;TZID=America/New_York:20240513T140000
DTSTAMP:20260421T061724
CREATED:20240126T051743Z
LAST-MODIFIED:20240126T051743Z
UID:7417-1715608800-1715608800@www.lwvab.org
SUMMARY:Direct Election of the President Zoom Presentation
DESCRIPTION:This Zoom presentation will be Monday\, May 13th at 2 pm\, and will provide an overview of the LWVUS Moonshot effort and the efforts of the LWVNC Direct Election of the President Action Team. \n  \n  \nShare this:\n				Share on X (Opens in new window)\n				X\n			\n				Share on Facebook (Opens in new window)\n				Facebook\n			\n				Email a link to a friend (Opens in new window)\n				Email
URL:https://www.lwvab.org/event/direct-election-of-the-president-zoom-presentation-5/
LOCATION:NC
END:VEVENT
BEGIN:VEVENT
DTSTART;TZID=America/New_York:20240516T180000
DTEND;TZID=America/New_York:20240516T180000
DTSTAMP:20260421T061724
CREATED:20231020T201842Z
LAST-MODIFIED:20240415T143518Z
UID:7120-1715882400-1715882400@www.lwvab.org
SUMMARY:Annual Members' Meeting
DESCRIPTION:Annual Members’ Meeting of the League of Women Voters of Asheville-Buncombe County. Thursday\, May 16\, 6 pm\, at the East Asheville Library\, 3 Avon Rd. Members and interested guests are asked to register in advance by May 9. We will provide a light\, informal dinner. \nMarques Thompson\, Organizing Director of Democracy NC\, will speak on recent changes to NC voter law\, further proposals by the NC General Assembly\, and strategies Democracy NC is using to educate and excite the electorate. \n\nShare this:\n				Share on X (Opens in new window)\n				X\n			\n				Share on Facebook (Opens in new window)\n				Facebook\n			\n				Email a link to a friend (Opens in new window)\n				Email
URL:https://www.lwvab.org/event/may-board-meeting-2024/
LOCATION:NC
END:VEVENT
END:VCALENDAR