BEGIN:VCALENDAR
VERSION:2.0
PRODID:-//League of Women Voters Asheville - Buncombe - ECPv6.15.17.1//NONSGML v1.0//EN
CALSCALE:GREGORIAN
METHOD:PUBLISH
X-WR-CALNAME:League of Women Voters Asheville - Buncombe
X-ORIGINAL-URL:https://www.lwvab.org
X-WR-CALDESC:Events for League of Women Voters Asheville - Buncombe
REFRESH-INTERVAL;VALUE=DURATION:PT1H
X-Robots-Tag:noindex
X-PUBLISHED-TTL:PT1H
BEGIN:VTIMEZONE
TZID:America/New_York
BEGIN:DAYLIGHT
TZOFFSETFROM:-0500
TZOFFSETTO:-0400
TZNAME:EDT
DTSTART:20230312T070000
END:DAYLIGHT
BEGIN:STANDARD
TZOFFSETFROM:-0400
TZOFFSETTO:-0500
TZNAME:EST
DTSTART:20231105T060000
END:STANDARD
BEGIN:DAYLIGHT
TZOFFSETFROM:-0500
TZOFFSETTO:-0400
TZNAME:EDT
DTSTART:20240310T070000
END:DAYLIGHT
BEGIN:STANDARD
TZOFFSETFROM:-0400
TZOFFSETTO:-0500
TZNAME:EST
DTSTART:20241103T060000
END:STANDARD
BEGIN:DAYLIGHT
TZOFFSETFROM:-0500
TZOFFSETTO:-0400
TZNAME:EDT
DTSTART:20250309T070000
END:DAYLIGHT
BEGIN:STANDARD
TZOFFSETFROM:-0400
TZOFFSETTO:-0500
TZNAME:EST
DTSTART:20251102T060000
END:STANDARD
END:VTIMEZONE
BEGIN:VEVENT
DTSTART;TZID=America/New_York:20240215T180000
DTEND;TZID=America/New_York:20240215T180000
DTSTAMP:20260421T110520
CREATED:20231020T200816Z
LAST-MODIFIED:20240211T171943Z
UID:7109-1708020000-1708020000@www.lwvab.org
SUMMARY:Special Event February 15 at 7 pm via Zoom
DESCRIPTION:As a one-day delayed celebration of the 104th Birthday of the League of Women Voters we are having a very timely talk “Understanding the News to be an Informed Citizen” by Amanda Sturgill. \nAmanda Sturgill is an associate professor of journalism at Elon University. She was a newspaper reporter in South Carolina prior to graduate school at Cornell. At Elon\, she teaches students how to be thoughtful and ethical creators of news. She’s the author of Detecting Deception: Tools to Fight Fake News and the host of the podcast UnSpun\, which focuses on media literacy. \nThis is a Zoom (https://us02web.zoom.us/j/81902092247) presentation at 7 pm and is not limited to League members. Invite your friends\, neighbors\, relatives to join us. \nShare this:\n				Share on X (Opens in new window)\n				X\n			\n				Share on Facebook (Opens in new window)\n				Facebook\n			\n				Email a link to a friend (Opens in new window)\n				Email
URL:https://www.lwvab.org/event/february-member-meeting-2024/
LOCATION:NC
END:VEVENT
BEGIN:VEVENT
DTSTART;TZID=America/New_York:20240227T140000
DTEND;TZID=America/New_York:20240227T140000
DTSTAMP:20260421T110520
CREATED:20240126T050637Z
LAST-MODIFIED:20240126T050637Z
UID:7408-1709042400-1709042400@www.lwvab.org
SUMMARY:Direct Election of the President Zoom Presentation
DESCRIPTION:This Zoom presentation will be Tuesday\, February 27th at 2 pm\, and will provide an overview of the LWVUS Moonshot effort and the efforts of the LWVNC Direct Election of the President Action Team. \n  \n  \n  \nShare this:\n				Share on X (Opens in new window)\n				X\n			\n				Share on Facebook (Opens in new window)\n				Facebook\n			\n				Email a link to a friend (Opens in new window)\n				Email
URL:https://www.lwvab.org/event/direct-election-of-the-president-zoom-presentation-2/
LOCATION:NC
END:VEVENT
END:VCALENDAR