BEGIN:VCALENDAR
VERSION:2.0
PRODID:-//League of Women Voters Asheville - Buncombe - ECPv6.15.17.1//NONSGML v1.0//EN
CALSCALE:GREGORIAN
METHOD:PUBLISH
X-ORIGINAL-URL:https://www.lwvab.org
X-WR-CALDESC:Events for League of Women Voters Asheville - Buncombe
REFRESH-INTERVAL;VALUE=DURATION:PT1H
X-Robots-Tag:noindex
X-PUBLISHED-TTL:PT1H
BEGIN:VTIMEZONE
TZID:America/New_York
BEGIN:DAYLIGHT
TZOFFSETFROM:-0500
TZOFFSETTO:-0400
TZNAME:EDT
DTSTART:20220313T070000
END:DAYLIGHT
BEGIN:STANDARD
TZOFFSETFROM:-0400
TZOFFSETTO:-0500
TZNAME:EST
DTSTART:20221106T060000
END:STANDARD
BEGIN:DAYLIGHT
TZOFFSETFROM:-0500
TZOFFSETTO:-0400
TZNAME:EDT
DTSTART:20230312T070000
END:DAYLIGHT
BEGIN:STANDARD
TZOFFSETFROM:-0400
TZOFFSETTO:-0500
TZNAME:EST
DTSTART:20231105T060000
END:STANDARD
BEGIN:DAYLIGHT
TZOFFSETFROM:-0500
TZOFFSETTO:-0400
TZNAME:EDT
DTSTART:20240310T070000
END:DAYLIGHT
BEGIN:STANDARD
TZOFFSETFROM:-0400
TZOFFSETTO:-0500
TZNAME:EST
DTSTART:20241103T060000
END:STANDARD
END:VTIMEZONE
BEGIN:VEVENT
DTSTART;VALUE=DATE:20230901
DTEND;VALUE=DATE:20230902
DTSTAMP:20260421T185412
CREATED:20230603T034520Z
LAST-MODIFIED:20230603T034520Z
UID:6700-1693526400-1693612799@www.lwvab.org
SUMMARY:North Carolina Apple Festival
DESCRIPTION:Come see us at the NC Apple Festival – celebrating NC’s history as a major apple growing area\nFriday through Sunday\, September 1-3\, in downtown Hendersonville \n  \nShare this:\n				Share on X (Opens in new window)\n				X\n			\n				Share on Facebook (Opens in new window)\n				Facebook\n			\n				Email a link to a friend (Opens in new window)\n				Email
URL:https://www.lwvab.org/event/north-carolina-apple-festival/
LOCATION:NC
END:VEVENT
BEGIN:VEVENT
DTSTART;VALUE=DATE:20230902
DTEND;VALUE=DATE:20230903
DTSTAMP:20260421T185412
CREATED:20230603T034607Z
LAST-MODIFIED:20230603T034607Z
UID:6704-1693612800-1693699199@www.lwvab.org
SUMMARY:North Carolina Apple Festival
DESCRIPTION:Come see us at the NC Apple Festival – celebrating NC’s history as a major apple growing area\nFriday through Sunday\, September 1-3\, in downtown Hendersonville \nShare this:\n				Share on X (Opens in new window)\n				X\n			\n				Share on Facebook (Opens in new window)\n				Facebook\n			\n				Email a link to a friend (Opens in new window)\n				Email
URL:https://www.lwvab.org/event/north-carolina-apple-festival-2/
LOCATION:NC
END:VEVENT
BEGIN:VEVENT
DTSTART;VALUE=DATE:20230903
DTEND;VALUE=DATE:20230904
DTSTAMP:20260421T185412
CREATED:20230603T034645Z
LAST-MODIFIED:20230603T034645Z
UID:6706-1693699200-1693785599@www.lwvab.org
SUMMARY:North Carolina Apple Festival
DESCRIPTION:Come see us at the NC Apple Festival – celebrating NC’s history as a major apple growing area\nFriday through Sunday\, September 1-3\, in downtown Hendersonville \nShare this:\n				Share on X (Opens in new window)\n				X\n			\n				Share on Facebook (Opens in new window)\n				Facebook\n			\n				Email a link to a friend (Opens in new window)\n				Email
URL:https://www.lwvab.org/event/north-carolina-apple-festival-3/
LOCATION:NC
END:VEVENT
BEGIN:VEVENT
DTSTART;VALUE=DATE:20230919
DTEND;VALUE=DATE:20230920
DTSTAMP:20260421T185412
CREATED:20230910T041359Z
LAST-MODIFIED:20230910T041359Z
UID:6896-1695081600-1695167999@www.lwvab.org
SUMMARY:National Voter Registration Day
DESCRIPTION:Share this:\n				Share on X (Opens in new window)\n				X\n			\n				Share on Facebook (Opens in new window)\n				Facebook\n			\n				Email a link to a friend (Opens in new window)\n				Email
URL:https://www.lwvab.org/event/national-voter-registration-day/
LOCATION:NC
END:VEVENT
BEGIN:VEVENT
DTSTART;TZID=America/New_York:20230919T190000
DTEND;TZID=America/New_York:20230919T190000
DTSTAMP:20260421T185412
CREATED:20230910T041232Z
LAST-MODIFIED:20230910T041232Z
UID:6894-1695150000-1695150000@www.lwvab.org
SUMMARY:What's ahead for NC elections in 2023 & 2024
DESCRIPTION:Share this:\n				Share on X (Opens in new window)\n				X\n			\n				Share on Facebook (Opens in new window)\n				Facebook\n			\n				Email a link to a friend (Opens in new window)\n				Email
URL:https://www.lwvab.org/event/whats-ahead-for-nc-elections-in-2023-2024/
LOCATION:NC
END:VEVENT
BEGIN:VEVENT
DTSTART;TZID=America/New_York:20230921T180000
DTEND;TZID=America/New_York:20230921T180000
DTSTAMP:20260421T185412
CREATED:20230110T175206Z
LAST-MODIFIED:20230110T175206Z
UID:6446-1695319200-1695319200@www.lwvab.org
SUMMARY:September Board Meeting
DESCRIPTION:Share this:\n				Share on X (Opens in new window)\n				X\n			\n				Share on Facebook (Opens in new window)\n				Facebook\n			\n				Email a link to a friend (Opens in new window)\n				Email
URL:https://www.lwvab.org/event/september-board-meeting/
LOCATION:Virtual
END:VEVENT
BEGIN:VEVENT
DTSTART;TZID=America/New_York:20230930T120000
DTEND;TZID=America/New_York:20230930T180000
DTSTAMP:20260421T185412
CREATED:20230603T034913Z
LAST-MODIFIED:20230603T034913Z
UID:6708-1696075200-1696096800@www.lwvab.org
SUMMARY:Blue Ridge Pride Festival
DESCRIPTION:Come see us at the Blue Ridge Pride Festival – promoting equality\, safety\, and quality of life for LGBTQ and allied communities\non Saturday\, September 30\, from noon to 6 pm\, in Pack Square Park\, Asheville \n  \nShare this:\n				Share on X (Opens in new window)\n				X\n			\n				Share on Facebook (Opens in new window)\n				Facebook\n			\n				Email a link to a friend (Opens in new window)\n				Email
URL:https://www.lwvab.org/event/blue-ridge-pride-festival/
LOCATION:NC
END:VEVENT
END:VCALENDAR