BEGIN:VCALENDAR
VERSION:2.0
PRODID:-//League of Women Voters Asheville - Buncombe - ECPv6.15.17.1//NONSGML v1.0//EN
CALSCALE:GREGORIAN
METHOD:PUBLISH
X-ORIGINAL-URL:https://www.lwvab.org
X-WR-CALDESC:Events for League of Women Voters Asheville - Buncombe
REFRESH-INTERVAL;VALUE=DURATION:PT1H
X-Robots-Tag:noindex
X-PUBLISHED-TTL:PT1H
BEGIN:VTIMEZONE
TZID:America/New_York
BEGIN:DAYLIGHT
TZOFFSETFROM:-0500
TZOFFSETTO:-0400
TZNAME:EDT
DTSTART:20210314T070000
END:DAYLIGHT
BEGIN:STANDARD
TZOFFSETFROM:-0400
TZOFFSETTO:-0500
TZNAME:EST
DTSTART:20211107T060000
END:STANDARD
BEGIN:DAYLIGHT
TZOFFSETFROM:-0500
TZOFFSETTO:-0400
TZNAME:EDT
DTSTART:20220313T070000
END:DAYLIGHT
BEGIN:STANDARD
TZOFFSETFROM:-0400
TZOFFSETTO:-0500
TZNAME:EST
DTSTART:20221106T060000
END:STANDARD
BEGIN:DAYLIGHT
TZOFFSETFROM:-0500
TZOFFSETTO:-0400
TZNAME:EDT
DTSTART:20230312T070000
END:DAYLIGHT
BEGIN:STANDARD
TZOFFSETFROM:-0400
TZOFFSETTO:-0500
TZNAME:EST
DTSTART:20231105T060000
END:STANDARD
END:VTIMEZONE
BEGIN:VEVENT
DTSTART;VALUE=DATE:20221020
DTEND;VALUE=DATE:20221021
DTSTAMP:20260424T095238
CREATED:20220921T195035Z
LAST-MODIFIED:20220921T195035Z
UID:6132-1666224000-1666310399@www.lwvab.org
SUMMARY:First Day of Early Voting in Buncombe County
DESCRIPTION:Share this:\n				Share on X (Opens in new window)\n				X\n			\n				Share on Facebook (Opens in new window)\n				Facebook\n			\n				Email a link to a friend (Opens in new window)\n				Email
URL:https://www.lwvab.org/event/first-day-of-early-voting-in-buncombe-county/
LOCATION:NC
END:VEVENT
BEGIN:VEVENT
DTSTART;TZID=America/New_York:20221020T170000
DTEND;TZID=America/New_York:20221020T180000
DTSTAMP:20260424T095238
CREATED:20220505T224603Z
LAST-MODIFIED:20220505T224603Z
UID:5701-1666285200-1666288800@www.lwvab.org
SUMMARY:Board Meeting
DESCRIPTION:Share this:\n				Share on X (Opens in new window)\n				X\n			\n				Share on Facebook (Opens in new window)\n				Facebook\n			\n				Email a link to a friend (Opens in new window)\n				Email
URL:https://www.lwvab.org/event/board-meeting-10/
LOCATION:Virtual
END:VEVENT
BEGIN:VEVENT
DTSTART;TZID=America/New_York:20221024T150000
DTEND;TZID=America/New_York:20221024T160000
DTSTAMP:20260424T095238
CREATED:20220117T231838Z
LAST-MODIFIED:20220117T231838Z
UID:5347-1666623600-1666627200@www.lwvab.org
SUMMARY:National Popular Vote Action Team Meeting
DESCRIPTION:Share this:\n				Share on X (Opens in new window)\n				X\n			\n				Share on Facebook (Opens in new window)\n				Facebook\n			\n				Email a link to a friend (Opens in new window)\n				Email
URL:https://www.lwvab.org/event/national-popular-vote-action-team-meeting-10/
LOCATION:NC
ATTACH;FMTTYPE=image/png:https://www.lwvab.org/wp-content/uploads/2022/01/logo-3line.png
END:VEVENT
END:VCALENDAR