BEGIN:VCALENDAR
VERSION:2.0
PRODID:-//League of Women Voters Asheville - Buncombe - ECPv6.15.17.1//NONSGML v1.0//EN
CALSCALE:GREGORIAN
METHOD:PUBLISH
X-WR-CALNAME:League of Women Voters Asheville - Buncombe
X-ORIGINAL-URL:https://www.lwvab.org
X-WR-CALDESC:Events for League of Women Voters Asheville - Buncombe
REFRESH-INTERVAL;VALUE=DURATION:PT1H
X-Robots-Tag:noindex
X-PUBLISHED-TTL:PT1H
BEGIN:VTIMEZONE
TZID:America/New_York
BEGIN:DAYLIGHT
TZOFFSETFROM:-0500
TZOFFSETTO:-0400
TZNAME:EDT
DTSTART:20210314T070000
END:DAYLIGHT
BEGIN:STANDARD
TZOFFSETFROM:-0400
TZOFFSETTO:-0500
TZNAME:EST
DTSTART:20211107T060000
END:STANDARD
BEGIN:DAYLIGHT
TZOFFSETFROM:-0500
TZOFFSETTO:-0400
TZNAME:EDT
DTSTART:20220313T070000
END:DAYLIGHT
BEGIN:STANDARD
TZOFFSETFROM:-0400
TZOFFSETTO:-0500
TZNAME:EST
DTSTART:20221106T060000
END:STANDARD
BEGIN:DAYLIGHT
TZOFFSETFROM:-0500
TZOFFSETTO:-0400
TZNAME:EDT
DTSTART:20230312T070000
END:DAYLIGHT
BEGIN:STANDARD
TZOFFSETFROM:-0400
TZOFFSETTO:-0500
TZNAME:EST
DTSTART:20231105T060000
END:STANDARD
END:VTIMEZONE
BEGIN:VEVENT
DTSTART;TZID=America/New_York:20220207T190000
DTEND;TZID=America/New_York:20220207T201500
DTSTAMP:20260425T001246
CREATED:20220203T053429Z
LAST-MODIFIED:20220203T053429Z
UID:5377-1644260400-1644264900@www.lwvab.org
SUMMARY:“National Popular Vote” Talk & Action Hour
DESCRIPTION:“National Popular Vote” Talk & Action Hour will be Monday\, February 7th\, from 7 to 8:15 pm\, via Zoom.  Suzanne Fisher\, President of the League of Women Voters of Asheville-Buncombe County\, will discuss how the National Popular Vote\, a constitutionally conservative approach that retains the Electoral College\, will ensure that the President will always be the candidate with the most popular votes. \nRegister here to attend. \nShare this:\n				Share on X (Opens in new window)\n				X\n			\n				Share on Facebook (Opens in new window)\n				Facebook\n			\n				Email a link to a friend (Opens in new window)\n				Email
URL:https://www.lwvab.org/event/national-popular-vote-talk-action-hour/
LOCATION:Virtual
CATEGORIES:National Popular Vote Action Team Meeting
END:VEVENT
BEGIN:VEVENT
DTSTART;TZID=America/New_York:20220214T123000
DTEND;TZID=America/New_York:20220214T123000
DTSTAMP:20260425T001246
CREATED:20211213T022653Z
LAST-MODIFIED:20211213T022653Z
UID:5258-1644841800-1644841800@www.lwvab.org
SUMMARY:ERA Action Team Meeting
DESCRIPTION:Share this:\n				Share on X (Opens in new window)\n				X\n			\n				Share on Facebook (Opens in new window)\n				Facebook\n			\n				Email a link to a friend (Opens in new window)\n				Email
URL:https://www.lwvab.org/event/era-action-team-meeting-2/
LOCATION:NC
END:VEVENT
BEGIN:VEVENT
DTSTART;TZID=America/New_York:20220217T170000
DTEND;TZID=America/New_York:20220217T180000
DTSTAMP:20260425T001246
CREATED:20211213T022348Z
LAST-MODIFIED:20211213T022348Z
UID:5256-1645117200-1645120800@www.lwvab.org
SUMMARY:Board Meeting
DESCRIPTION:Share this:\n				Share on X (Opens in new window)\n				X\n			\n				Share on Facebook (Opens in new window)\n				Facebook\n			\n				Email a link to a friend (Opens in new window)\n				Email
URL:https://www.lwvab.org/event/board-meeting/
LOCATION:NC
END:VEVENT
BEGIN:VEVENT
DTSTART;TZID=America/New_York:20220224T183000
DTEND;TZID=America/New_York:20220224T183000
DTSTAMP:20260425T001246
CREATED:20220206T191818Z
LAST-MODIFIED:20220206T191903Z
UID:5389-1645727400-1645727400@www.lwvab.org
SUMMARY:Quarterly Members' Meeting and Cupcake Party
DESCRIPTION:February 14\, 2022 is the official 102nd birthday of the League of Women Voters! Given Covid concerns and the vagaries of mountain winter weather\, our League chapter will be celebrating via Zoom on February 24 with a quarterly Members Meeting at 6:30 pm. It’s a Bring Your Own Cupcake Party so bring a treat or three to munch on! \n  \n  \n  \n  \nShare this:\n				Share on X (Opens in new window)\n				X\n			\n				Share on Facebook (Opens in new window)\n				Facebook\n			\n				Email a link to a friend (Opens in new window)\n				Email
URL:https://www.lwvab.org/event/quarterly-members-meeting-and-cupcake-party/
LOCATION:Virtual
ATTACH;FMTTYPE=image/jpeg:https://www.lwvab.org/wp-content/uploads/2022/02/reannan-finney-QjfOTjR6Cwo-unsplash-scaled.jpg
END:VEVENT
BEGIN:VEVENT
DTSTART;TZID=America/New_York:20220228T150000
DTEND;TZID=America/New_York:20220228T160000
DTSTAMP:20260425T001246
CREATED:20211213T022050Z
LAST-MODIFIED:20220117T223316Z
UID:5254-1646060400-1646064000@www.lwvab.org
SUMMARY:National Popular Vote Action Team Meeting
DESCRIPTION:Share this:\n				Share on X (Opens in new window)\n				X\n			\n				Share on Facebook (Opens in new window)\n				Facebook\n			\n				Email a link to a friend (Opens in new window)\n				Email
URL:https://www.lwvab.org/event/national-popular-vote-action-team-meeting-2/
LOCATION:NC
END:VEVENT
END:VCALENDAR