BEGIN:VCALENDAR
VERSION:2.0
PRODID:-//League of Women Voters Asheville - Buncombe - ECPv6.15.17.1//NONSGML v1.0//EN
CALSCALE:GREGORIAN
METHOD:PUBLISH
X-WR-CALNAME:League of Women Voters Asheville - Buncombe
X-ORIGINAL-URL:https://www.lwvab.org
X-WR-CALDESC:Events for League of Women Voters Asheville - Buncombe
REFRESH-INTERVAL;VALUE=DURATION:PT1H
X-Robots-Tag:noindex
X-PUBLISHED-TTL:PT1H
BEGIN:VTIMEZONE
TZID:America/New_York
BEGIN:DAYLIGHT
TZOFFSETFROM:-0500
TZOFFSETTO:-0400
TZNAME:EDT
DTSTART:20230312T070000
END:DAYLIGHT
BEGIN:STANDARD
TZOFFSETFROM:-0400
TZOFFSETTO:-0500
TZNAME:EST
DTSTART:20231105T060000
END:STANDARD
BEGIN:DAYLIGHT
TZOFFSETFROM:-0500
TZOFFSETTO:-0400
TZNAME:EDT
DTSTART:20240310T070000
END:DAYLIGHT
BEGIN:STANDARD
TZOFFSETFROM:-0400
TZOFFSETTO:-0500
TZNAME:EST
DTSTART:20241103T060000
END:STANDARD
BEGIN:DAYLIGHT
TZOFFSETFROM:-0500
TZOFFSETTO:-0400
TZNAME:EDT
DTSTART:20250309T070000
END:DAYLIGHT
BEGIN:STANDARD
TZOFFSETFROM:-0400
TZOFFSETTO:-0500
TZNAME:EST
DTSTART:20251102T060000
END:STANDARD
END:VTIMEZONE
BEGIN:VEVENT
DTSTART;TZID=America/New_York:20240321T180000
DTEND;TZID=America/New_York:20240321T180000
DTSTAMP:20260421T105652
CREATED:20231020T201054Z
LAST-MODIFIED:20231020T202413Z
UID:7116-1711044000-1711044000@www.lwvab.org
SUMMARY:March Board Meeting
DESCRIPTION:March Board Meeting\, 6 pm \nShare this:\n				Share on X (Opens in new window)\n				X\n			\n				Share on Facebook (Opens in new window)\n				Facebook\n			\n				Email a link to a friend (Opens in new window)\n				Email
URL:https://www.lwvab.org/event/march-board-meeting-2024/
LOCATION:NC
END:VEVENT
END:VCALENDAR