BEGIN:VCALENDAR
VERSION:2.0
PRODID:-//League of Women Voters Asheville - Buncombe - ECPv6.15.17.1//NONSGML v1.0//EN
CALSCALE:GREGORIAN
METHOD:PUBLISH
X-ORIGINAL-URL:https://www.lwvab.org
X-WR-CALDESC:Events for League of Women Voters Asheville - Buncombe
REFRESH-INTERVAL;VALUE=DURATION:PT1H
X-Robots-Tag:noindex
X-PUBLISHED-TTL:PT1H
BEGIN:VTIMEZONE
TZID:America/New_York
BEGIN:DAYLIGHT
TZOFFSETFROM:-0500
TZOFFSETTO:-0400
TZNAME:EDT
DTSTART:20210314T070000
END:DAYLIGHT
BEGIN:STANDARD
TZOFFSETFROM:-0400
TZOFFSETTO:-0500
TZNAME:EST
DTSTART:20211107T060000
END:STANDARD
BEGIN:DAYLIGHT
TZOFFSETFROM:-0500
TZOFFSETTO:-0400
TZNAME:EDT
DTSTART:20220313T070000
END:DAYLIGHT
BEGIN:STANDARD
TZOFFSETFROM:-0400
TZOFFSETTO:-0500
TZNAME:EST
DTSTART:20221106T060000
END:STANDARD
BEGIN:DAYLIGHT
TZOFFSETFROM:-0500
TZOFFSETTO:-0400
TZNAME:EDT
DTSTART:20230312T070000
END:DAYLIGHT
BEGIN:STANDARD
TZOFFSETFROM:-0400
TZOFFSETTO:-0500
TZNAME:EST
DTSTART:20231105T060000
END:STANDARD
END:VTIMEZONE
BEGIN:VEVENT
DTSTART;TZID=America/New_York:20220420T213000
DTEND;TZID=America/New_York:20220420T213000
DTSTAMP:20260424T224941
CREATED:20220417T222910Z
LAST-MODIFIED:20220417T223013Z
UID:5660-1650490200-1650490200@www.lwvab.org
SUMMARY:The Power to Heal
DESCRIPTION:There will be a repeat showing of the documentary “The Power to Heal\,” Wednesday\, April 20th\, 6:30 pm Pacific Time\, 9:30 pm Eastern\, by the League of Women Voters of Berkeley\, Albany\, and Emeryville\n \n“The Power to Heal” tells how\, after the passage of the Civil Rights and Medicare Acts\, movement leaders and grass-roots volunteers worked to end the practice of racially segregating health care delivery. In essence\, they “kicked Jim Crow out of hospitals.” The film helps us become better informed about the decades of struggle against racism in health care and brings optimism that working together\, patients\, community members\, healthcare workers\, and public officials can overcome the remaining obstacles to achieve universal\, affordable\, equitable\, and high quality health care. \nThe film lasts 56 minutes. You’re invited to stay afterward for a conversation about the significance and relevance of this inspiring story. \n\n\n\n\nPre-registration is not required. To join via Zoom\, just click on the link: \nhttps://us06web.zoom.us/j/86516993643 \n\n\n  \n\n\nShare this:\n				Share on X (Opens in new window)\n				X\n			\n				Share on Facebook (Opens in new window)\n				Facebook\n			\n				Email a link to a friend (Opens in new window)\n				Email
URL:https://www.lwvab.org/event/the-power-to-heal/
LOCATION:Virtual
ATTACH;FMTTYPE=image/png:https://www.lwvab.org/wp-content/uploads/2022/04/retouched.png
END:VEVENT
END:VCALENDAR